BEGIN:VCALENDAR
VERSION:2.0
PRODID:-//SkillsUSA Washington - ECPv6.15.20//NONSGML v1.0//EN
CALSCALE:GREGORIAN
METHOD:PUBLISH
X-WR-CALNAME:SkillsUSA Washington
X-ORIGINAL-URL:https://skillsusawashington.org
X-WR-CALDESC:Events for SkillsUSA Washington
REFRESH-INTERVAL;VALUE=DURATION:PT1H
X-Robots-Tag:noindex
X-PUBLISHED-TTL:PT1H
BEGIN:VTIMEZONE
TZID:America/Los_Angeles
BEGIN:DAYLIGHT
TZOFFSETFROM:-0800
TZOFFSETTO:-0700
TZNAME:PDT
DTSTART:20240310T100000
END:DAYLIGHT
BEGIN:STANDARD
TZOFFSETFROM:-0700
TZOFFSETTO:-0800
TZNAME:PST
DTSTART:20241103T090000
END:STANDARD
BEGIN:DAYLIGHT
TZOFFSETFROM:-0800
TZOFFSETTO:-0700
TZNAME:PDT
DTSTART:20250309T100000
END:DAYLIGHT
BEGIN:STANDARD
TZOFFSETFROM:-0700
TZOFFSETTO:-0800
TZNAME:PST
DTSTART:20251102T090000
END:STANDARD
BEGIN:DAYLIGHT
TZOFFSETFROM:-0800
TZOFFSETTO:-0700
TZNAME:PDT
DTSTART:20260308T100000
END:DAYLIGHT
BEGIN:STANDARD
TZOFFSETFROM:-0700
TZOFFSETTO:-0800
TZNAME:PST
DTSTART:20261101T090000
END:STANDARD
END:VTIMEZONE
BEGIN:VEVENT
DTSTART;TZID=America/Los_Angeles:20251009T160000
DTEND;TZID=America/Los_Angeles:20251009T180000
DTSTAMP:20260424T011549
CREATED:20250902T001036Z
LAST-MODIFIED:20250913T232548Z
UID:2595-1760025600-1760032800@skillsusawashington.org
SUMMARY:Taking it to the Next Level! Plugging in with Industry: Advisor Training
DESCRIPTION:« All Events\n 				\n				\n				\n				\n					This event has passed. \n				\n				\n					\n				\n		\n					\n				\n				\n					\n	Taking it to the Next Level! Plugging in with Industry: Advisor Training				\n				\n				\n				\n					\n		\n			October 9\, 2025\n\n	\n\n	  @  \n\n\n4:00 pm\n\n		\n\n\n\n	\n	  -  \n\n6:00 pm\n\n\n\n	\n				\n				\n					\n				\n		\n					\n		\n				\n				\n					\n	\n				\n				\n				\n		\n				\n				\n									The Fall Advisor Training Series offers essential professional development for all SkillsUSA advisors\, whether you’re launching a new chapter or looking to elevate your existing program. This is the fourth training in our Fall Advisor Training Series. Other trainings include: October 1: SkillsUSA BasicsOctober 2: NEW Regional Conference Best PracticesOctober 7: Crosswalk SkillsUSA Into Your FrameworkOctober 9: Taking it to the Next Level! Plugging in with IndustryOctober 14: Advanced SkillsUSA Advisor Teaching Tools\, Welcome Pathful								\n				\n				\n				\n									\n					\n						\n						\n							\n									Zoom Link\n					\n					\n				\n								\n				\n				\n				\n					\n	\n		\n\n	\n	Add to calendar	\n		\n	\n\n		\n			\n									\n	Google Calendar\n\n									\n	iCalendar\n\n									\n	Outlook 365\n\n									\n	Outlook Live\n\n							\n		\n\n		\n	\n\n				\n				\n				\n					\n				\n		\n					\n				\n				\n							\n			\n						\n		\n						\n				\n					\n				\n		\n					\n		\n				\n				\n					\n	\n	Date & Time:	\n			October 9\, 2025\n\n	\n\n	  @  \n\n\n4:00 pm\n\n		\n\n\n\n	\n	  -  \n\n6:00 pm\n\n\nPDT\n	\n				\n				\n				\n		\n				\n				\n					\n	\n	Organizer\n			SkillsUSA Washington	\n\n	\n\n				\n				\n				\n					\n				\n		\n					\n				\n				\n							\n			\n						\n		\n						\n				\n					\n				\n		\n					\n		\n				\n				\n					\n	\n	Venue			\n				\n	\n			\n		Virtual			\n	\n\n	\n		\n	\n				\n				\n				\n					\n				\n		\n					\n				\n				\n					\n	\n		\n\n				Elevate	\n\n\n		\n	\n		Office Closure - Indigenous Peoples' Day
URL:https://skillsusawashington.org/event/taking-it-to-the-next-level-pluggin-in-with-industry-advisor-training/
LOCATION:Virtual
CATEGORIES:Leadership Training
ATTACH;FMTTYPE=image/jpeg:https://skillsusawashington.org/wp-content/uploads/2025/09/Website-Event-Images-Instagram-Post-1.jpg
END:VEVENT
END:VCALENDAR